BEGIN:VCALENDAR
VERSION:2.0
PRODID:icalendar-ruby
CALSCALE:GREGORIAN
METHOD:PUBLISH
BEGIN:VEVENT
DTSTAMP:20260420T123737Z
UID:16-221571@clearvisionchurch.com
DTSTART:20261101T141500Z
DTEND:20261101T150000Z
CLASS:PUBLIC
CREATED:20260420T082252
DESCRIPTION:Come and join us as we study God's Word together in small group
  setting on Sunday Mornings 
LAST-MODIFIED:20260420T082252
LOCATION:Lower Hall
SUMMARY:Vision Group
URL;VALUE=URI:https://www.clearvisionchurch.com/events/vision-group/2026-11
 -01
END:VEVENT
END:VCALENDAR
