BEGIN:VCALENDAR
VERSION:2.0
PRODID:icalendar-ruby
CALSCALE:GREGORIAN
METHOD:PUBLISH
BEGIN:VEVENT
DTSTAMP:20260420T082709Z
UID:16-221462@clearvisionchurch.com
DTSTART:20261011T131500Z
DTEND:20261011T140000Z
CLASS:PUBLIC
CREATED:20260420T034622
DESCRIPTION:Come and join us as we study God's Word together in small group
  setting on Sunday Mornings 
LAST-MODIFIED:20260420T034622
LOCATION:Lower Hall
SUMMARY:Vision Group
URL;VALUE=URI:https://www.clearvisionchurch.com/events/vision-group/2026-10
 -11
END:VEVENT
END:VCALENDAR
