BEGIN:VCALENDAR
VERSION:2.0
PRODID:icalendar-ruby
CALSCALE:GREGORIAN
METHOD:PUBLISH
BEGIN:VEVENT
DTSTAMP:20260420T033434Z
UID:16-221247@clearvisionchurch.com
DTSTART:20260920T131500Z
DTEND:20260920T140000Z
CLASS:PUBLIC
CREATED:20260419T203151
DESCRIPTION:Come and join us as we study God's Word together in small group
  setting on Sunday Mornings 
LAST-MODIFIED:20260419T203151
LOCATION:Lower Hall
SUMMARY:Vision Group
URL;VALUE=URI:https://www.clearvisionchurch.com/events/vision-group/2026-09
 -20
END:VEVENT
END:VCALENDAR
