BEGIN:VCALENDAR
VERSION:2.0
PRODID:icalendar-ruby
CALSCALE:GREGORIAN
METHOD:PUBLISH
BEGIN:VEVENT
DTSTAMP:20260420T014506Z
UID:16-221246@clearvisionchurch.com
DTSTART:20260913T131500Z
DTEND:20260913T140000Z
CLASS:PUBLIC
CREATED:20260419T203151
DESCRIPTION:Come and join us as we study God's Word together in small group
  setting on Sunday Mornings 
LAST-MODIFIED:20260419T203151
LOCATION:Lower Hall
SUMMARY:Vision Group
URL;VALUE=URI:https://www.clearvisionchurch.com/events/vision-group/2026-09
 -13
END:VEVENT
END:VCALENDAR
