BEGIN:VCALENDAR
VERSION:2.0
PRODID:icalendar-ruby
CALSCALE:GREGORIAN
METHOD:PUBLISH
BEGIN:VEVENT
DTSTAMP:20260419T190526Z
UID:16-221030@clearvisionchurch.com
DTSTART:20260816T131500Z
DTEND:20260816T140000Z
CLASS:PUBLIC
CREATED:20260419T130739
DESCRIPTION:Come and join us as we study God's Word together in small group
  setting on Sunday Mornings 
LAST-MODIFIED:20260419T130739
LOCATION:Lower Hall
SUMMARY:Vision Group
URL;VALUE=URI:https://www.clearvisionchurch.com/events/vision-group/2026-08
 -16
END:VEVENT
END:VCALENDAR
