BEGIN:VCALENDAR
VERSION:2.0
PRODID:icalendar-ruby
CALSCALE:GREGORIAN
METHOD:PUBLISH
BEGIN:VEVENT
DTSTAMP:20260419T142655Z
UID:16-220922@clearvisionchurch.com
DTSTART:20260726T131500Z
DTEND:20260726T140000Z
CLASS:PUBLIC
CREATED:20260419T092534
DESCRIPTION:Come and join us as we study God's Word together in small group
  setting on Sunday Mornings 
LAST-MODIFIED:20260419T092534
LOCATION:Lower Hall
SUMMARY:Vision Group
URL;VALUE=URI:https://www.clearvisionchurch.com/events/vision-group/2026-07
 -26
END:VEVENT
END:VCALENDAR
