BEGIN:VCALENDAR
VERSION:2.0
PRODID:icalendar-ruby
CALSCALE:GREGORIAN
METHOD:PUBLISH
BEGIN:VEVENT
DTSTAMP:20260424T073105Z
UID:18-224096@clearvisionchurch.com
DTSTART:20261105T000000Z
DTEND:20261105T010000Z
CLASS:PUBLIC
CREATED:20260423T231331
DESCRIPTION:This group is welcome to everyone. We explore the Bible and how
  it directly relates to us. 
LAST-MODIFIED:20260423T231331
LOCATION:201 Kern St. Thomasville\, NC 27360
SUMMARY:Vision Group
URL;VALUE=URI:https://www.clearvisionchurch.com/events/vision-group--18/202
 6-11-04
END:VEVENT
END:VCALENDAR
