BEGIN:VCALENDAR
VERSION:2.0
PRODID:icalendar-ruby
CALSCALE:GREGORIAN
METHOD:PUBLISH
BEGIN:VEVENT
DTSTAMP:20260424T014531Z
UID:18-223984@clearvisionchurch.com
DTSTART:20261007T230000Z
DTEND:20261008T000000Z
CLASS:PUBLIC
CREATED:20260423T201854
DESCRIPTION:This group is welcome to everyone. We explore the Bible and how
  it directly relates to us. 
LAST-MODIFIED:20260423T201854
LOCATION:201 Kern St. Thomasville\, NC 27360
SUMMARY:Vision Group
URL;VALUE=URI:https://www.clearvisionchurch.com/events/vision-group--18/202
 6-10-07
END:VEVENT
END:VCALENDAR
