BEGIN:VCALENDAR
VERSION:2.0
PRODID:icalendar-ruby
CALSCALE:GREGORIAN
METHOD:PUBLISH
BEGIN:VEVENT
DTSTAMP:20260423T223038Z
UID:18-223874@clearvisionchurch.com
DTSTART:20260923T230000Z
DTEND:20260924T000000Z
CLASS:PUBLIC
CREATED:20260423T172542
DESCRIPTION:This group is welcome to everyone. We explore the Bible and how
  it directly relates to us. 
LAST-MODIFIED:20260423T172542
LOCATION:201 Kern St. Thomasville\, NC 27360
SUMMARY:Vision Group
URL;VALUE=URI:https://www.clearvisionchurch.com/events/vision-group--18/202
 6-09-23
END:VEVENT
END:VCALENDAR
