BEGIN:VCALENDAR
VERSION:2.0
PRODID:icalendar-ruby
CALSCALE:GREGORIAN
METHOD:PUBLISH
BEGIN:VEVENT
DTSTAMP:20260423T210215Z
UID:18-223765@clearvisionchurch.com
DTSTART:20260916T230000Z
DTEND:20260917T000000Z
CLASS:PUBLIC
CREATED:20260423T143111
DESCRIPTION:This group is welcome to everyone. We explore the Bible and how
  it directly relates to us. 
LAST-MODIFIED:20260423T143111
LOCATION:201 Kern St. Thomasville\, NC 27360
SUMMARY:Vision Group
URL;VALUE=URI:https://www.clearvisionchurch.com/events/vision-group--18/202
 6-09-16
END:VEVENT
END:VCALENDAR
