BEGIN:VCALENDAR
VERSION:2.0
PRODID:icalendar-ruby
CALSCALE:GREGORIAN
METHOD:PUBLISH
BEGIN:VEVENT
DTSTAMP:20260423T145951Z
UID:18-223545@clearvisionchurch.com
DTSTART:20260819T230000Z
DTEND:20260820T000000Z
CLASS:PUBLIC
CREATED:20260423T084153
DESCRIPTION:This group is welcome to everyone. We explore the Bible and how
  it directly relates to us. 
LAST-MODIFIED:20260423T084153
LOCATION:201 Kern St. Thomasville\, NC 27360
SUMMARY:Vision Group
URL;VALUE=URI:https://www.clearvisionchurch.com/events/vision-group--18/202
 6-08-19
END:VEVENT
END:VCALENDAR
