BEGIN:VCALENDAR
VERSION:2.0
PRODID:icalendar-ruby
CALSCALE:GREGORIAN
METHOD:PUBLISH
BEGIN:VEVENT
DTSTAMP:20260423T145346Z
UID:17-223515@clearvisionchurch.com
DTSTART:20260930T180000Z
DTEND:20260930T190000Z
CLASS:PUBLIC
CREATED:20260423T084153
DESCRIPTION:We currently hold this Bible study for those who like the mid d
 ay time frame. This group is perfect for our seniors.
LAST-MODIFIED:20260423T084153
LOCATION:201 Kern St. Thomasville\, NC 27360
SUMMARY:Vision Group
URL;VALUE=URI:https://www.clearvisionchurch.com/events/vision-group--17/202
 6-09-30
END:VEVENT
END:VCALENDAR
