BEGIN:VCALENDAR
VERSION:2.0
PRODID:icalendar-ruby
CALSCALE:GREGORIAN
METHOD:PUBLISH
BEGIN:VEVENT
DTSTAMP:20260421T201711Z
UID:17-222551@clearvisionchurch.com
DTSTART:20260826T180000Z
DTEND:20260826T190000Z
CLASS:PUBLIC
CREATED:20260421T161527
DESCRIPTION:We currently hold this Bible study for those who like the mid d
 ay time frame. This group is perfect for our seniors.
LAST-MODIFIED:20260421T161527
LOCATION:201 Kern St. Thomasville\, NC 27360
SUMMARY:Vision Group
URL;VALUE=URI:https://www.clearvisionchurch.com/events/vision-group--17/202
 6-08-26
END:VEVENT
END:VCALENDAR
